BEGIN:VCALENDAR
VERSION:2.0
PRODID:-//Tukios.com/
BEGIN:VEVENT
UID:08105f15-3a38-4f32-b1ea-6c2af58360a2@www.brownowensbrumley.com
DTSTAMP:20260421T213345Z
DTSTART:20260425T180000Z
DTEND:20260425T190000Z
SUMMARY:Visitation
DESCRIPTION:
URL:https://www.brownowensbrumley.com/obituaries/elizabeth-bonness
LOCATION:Nations Church Arlington 1013 W Park Row Dr  Arlington TX 76013
GEO:32.7221765;-97.1198727
END:VEVENT
END:VCALENDAR