BEGIN:VCALENDAR
VERSION:2.0
PRODID:-//Tukios.com/
BEGIN:VEVENT
UID:7624fb26-af6b-4edd-9c4f-fa18ee0d033e@www.brownowensbrumley.com
DTSTAMP:20260421T212631Z
DTSTART:20260425T190000Z
DTEND:20260425T200000Z
SUMMARY:Funeral Service
DESCRIPTION:
URL:https://www.brownowensbrumley.com/obituaries/elizabeth-bonness
LOCATION:Nations Church Arlington 1013 W Park Row Dr  Arlington TX 76013
GEO:32.7221765;-97.1198727
END:VEVENT
END:VCALENDAR